View In:
ArcGIS JavaScript
ArcGIS Online Map Viewer
ArcGIS Earth
ArcMap
View Footprint In:
ArcGIS Online Map Viewer
Service Description: BaseFeatures/Aerial2025_DB
Name: BaseFeatures/Aerial2025_DB
Description:
Single Fused Map Cache: false
Extent:
XMin: 576366.3481640741
YMin: 1706905.9854995757
XMax: 676686.3481640741
YMax: 1817785.9854995757
Spatial Reference: 102658
(2236)
LatestVCSWkid(0)
Initial Extent:
XMin: 576366.3481640741
YMin: 1706905.9854995757
XMax: 676686.3481640741
YMax: 1817785.9854995757
Spatial Reference: 102658
(2236)
LatestVCSWkid(0)
Full Extent:
XMin: 576366.3481640741
YMin: 1706905.9854995757
XMax: 676686.3481640741
YMax: 1817785.9854995757
Spatial Reference: 102658
(2236)
LatestVCSWkid(0)
Pixel Size X: 0.25
Pixel Size Y: 0.25
Band Count: 3
Pixel Type: U8
RasterFunction Infos: {"rasterFunctionInfos": [{
"name": "None",
"description": "",
"help": ""
}]}
Mensuration Capabilities: Basic
Has Histograms: true
Has Colormap: false
Has Multi Dimensions : false
Rendering Rule:
Min Scale: 0
Max Scale: 0
Copyright Text:
Service Data Type: esriImageServiceDataTypeRGB
Min Values: 1, 1, 1
Max Values: 255, 255, 255
Mean Values: 106.13648193702386, 106.49434789640047, 92.94338158852318
Standard Deviation Values: 57.28347914260273, 55.26661627098936, 47.24008704319842
Object ID Field:
Fields:
None
Default Mosaic Method: Center
Allowed Mosaic Methods:
SortField:
SortValue: null
Mosaic Operator: First
Default Compression Quality: 75
Default Resampling Method: Bilinear
Max Record Count: null
Max Image Height: 4100
Max Image Width: 15000
Max Download Image Count: null
Max Mosaic Image Count: null
Allow Raster Function: true
Allow Copy: false
Allow Analysis: true
Allow Compute TiePoints: false
Supports Statistics: false
Supports Advanced Queries: false
Use StandardizedQueries: true
Raster Type Infos:
Name: Raster Dataset
Description: Supports all ArcGIS Raster Datasets
Help:
Has Raster Attribute Table: false
Edit Fields Info: null
Ownership Based AccessControl For Rasters: null
Child Resources:
Info
Histograms
Statistics
Key Properties
Legend
Raster Function Infos
Supported Operations:
Export Image
Identify
Compute Histograms
Compute Statistics Histograms
Get Samples
Compute Class Statistics
Query Boundary
Compute Pixel Location
Compute Angles
Validate
Project